BEGIN:VCALENDAR
VERSION:2.0
PRODID:gruene-kiel.de
METHOD:PUBLISH
BEGIN:VTIMEZONE
TZID:Europe/Berlin
X-LIC-LOCATION:Europe/Berlin
BEGIN:DAYLIGHT
TZOFFSETFROM:+0100
TZOFFSETTO:+0200
TZNAME:CEST
DTSTART:19700329T020000
RRULE:FREQ=YEARLY;INTERVAL=1;BYDAY=-1SU;BYMONTH=3
END:DAYLIGHT
BEGIN:STANDARD
TZOFFSETFROM:+0200
TZOFFSETTO:+0100
TZNAME:CET
DTSTART:19701025T030000
RRULE:FREQ=YEARLY;INTERVAL=1;BYDAY=-1SU;BYMONTH=10
END:STANDARD
END:VTIMEZONE
BEGIN:VEVENT
UID:9bbac5a2b83c8037ba5182aedd4c14e5@gruene-kiel.de
URL;VALUE=URI:https://gruene-kiel.de/termine/5652/
LOCATION:https://us06web.zoom.us/j/82082416541?pwd=TEZMMC9WTjZVVzY4ZFdRQ2
 tnTzZPZz09, Zoom
SUMMARY:Fachgruppe Umwelt und Natur
DESCRIPTION;ALTREP="data:text/html,F%C3%BCr%20unser%20Kommunalwahlprogram
 m%20streben%20wir%20eine%20so%20breite%20Beteiligung%20wie%20nie%20zuvor%
 20an%20%E2%80%93%20sowohl%20parteiintern%20als%20auch%20extern.%20Zu%20di
 esem%20Zwecke%20tagen%20analog%20zu%20unseren%20gro%C3%9Fen%20Programmkon
 gressen%20ab%20Februar%20unsere%20Fachgruppen.%0D%0A%0D%0AWir%20wollen%20
 und%20brauchen%20Deine%20Anregungen%20f%C3%BCr%20unser%20Wahlprogramm.%20
 Diese%20flie%C3%9Fen%20dann%20in%20den%20Prozess%20ein.%0D%0A%0D%0ADie%20
 Fachgruppe%20wird%20von%20Arne%20Stenger%2C%20umweltpolitischer%20Spreche
 r%2C%20und%20Kirsten%20Wegner%2C%20ehemalige%20umweltpolitische%20Spreche
 rin%2C%20geleitet.%20Der%20dazugeh%C3%B6rige%20Kongress%20findet%20am%202
 3.%20April%20digital%20statt.%0D%0A%0D%0ADas%20zweite%20Fachgruppentreffe
 n%20findet%20am%20%3Cstrong%3E9.%20Mai%20um%3C%2Fstrong%3E%20%3Cstrong%3E
 17%3A00%20Uhr%3C%2Fstrong%3E%20via%20Zoom%20statt%3A%20%3Ca%20href%3D%22h
 ttps%3A%2F%2Fus06web.zoom.us%2Fj%2F82082416541%3Fpwd%3DTEZMMC9WTjZVVzY4ZF
 dRQ2tnTzZPZz09%22%3Ehttps%3A%2F%2Fus06web.zoom.us%2Fj%2F82082416541%3Fpwd
 %3DTEZMMC9WTjZVVzY4ZFdRQ2tnTzZPZz09%3C%2Fa%3E%0D%0A%0D%0AIn%20dieser%20Fa
 chgruppe%20werden%20u.a.%20folgende%20Themen%20behandelt%3A%20Strand-%2C%
 20K%C3%BCsten.%2C%20Meeresschutz%2C%20Umweltbildung%2C%20Umwelterleben%20
 in%20der%20Stadt%2C%20essbare%20Stadt%2C%20Renaturierung%2C%20Naturr%C3%A
 4ume%2C%20Landschaftsschutzgebiete%2C%20Abfall%28vermeidung%29%2C%20Zero%
 20Waste%2C%20MVK.%0D%0A%0D%0AWenn%20Du%20Interesse%20an%20einer%20Mitarbe
 it%20oder%20ganz%20allgemein%20Fragen%20hast%2C%20melde%20dich%20unter%20
 %3Ca%20href%3D%22mailto%3Abuero%40gruene-kiel.de%22%3Ebuero%40gruene-kiel
 .de%3C%2Fa%3E.%0D%0A%0D%0AAlle%20Infos%20findest%20Du%20unter%20%3Ca%20hr
 ef%3D%22http%3A%2F%2Fgruene-kiel.de%2Fkommunalwahl-2023%22%3Egruene-kiel.
 de%2Fkommunalwahl-2023%3C%2Fa%3E.%20%23KielMachtProgramm%20%23KielBegruen
 en":Für unser Kommunalwahlprogramm streben wir eine so breite Beteiligun
 g wie nie zuvor an – sowohl parteiintern als auch extern. Zu diesem Zwe
 cke tagen analog zu unseren großen Programmkongressen ab Februar unsere 
 Fachgruppen.\n\nWir wollen und brauchen Deine Anregungen für unser Wahlp
 rogramm. Diese fließen dann in den Prozess ein.\n\nDie Fachgruppe wird v
 on Arne Stenger\, umweltpolitischer Sprecher\, und Kirsten Wegner\, ehema
 lige umweltpolitische Sprecherin\, geleitet. Der dazugehörige Kongress f
 indet am 23. April digital statt.\n\nDas zweite Fachgruppentreffen findet
  am 9. Mai um 17:00 Uhr via Zoom statt: https://us06web.zoom.us/j/8208241
 6541?pwd=TEZMMC9WTjZVVzY4ZFdRQ2tnTzZPZz09\n\nIn dieser Fachgruppe werden 
 u.a. folgende Themen behandelt: Strand-\, Küsten.\, Meeresschutz\, Umwel
 tbildung\, Umwelterleben in der Stadt\, essbare Stadt\, Renaturierung\, N
 aturräume\, Landschaftsschutzgebiete\, Abfall(vermeidung)\, Zero Waste\,
  MVK.\n\nWenn Du Interesse an einer Mitarbeit oder ganz allgemein Fragen 
 hast\, melde dich unter buero@gruene-kiel.de.\n\nAlle Infos findest Du un
 ter gruene-kiel.de/kommunalwahl-2023. #KielMachtProgramm #KielBegruenen
CLASS:PUBLIC
DTSTART;TZID=Europe/Berlin:20220509T170000
DTEND;TZID=Europe/Berlin:20220509T180000
DTSTAMP:20260423T044321
END:VEVENT
END:VCALENDAR