BEGIN:VCALENDAR
VERSION:2.0
PRODID:gruene-kiel.de
METHOD:PUBLISH
BEGIN:VTIMEZONE
TZID:Europe/Berlin
X-LIC-LOCATION:Europe/Berlin
BEGIN:DAYLIGHT
TZOFFSETFROM:+0100
TZOFFSETTO:+0200
TZNAME:CEST
DTSTART:19700329T020000
RRULE:FREQ=YEARLY;INTERVAL=1;BYDAY=-1SU;BYMONTH=3
END:DAYLIGHT
BEGIN:STANDARD
TZOFFSETFROM:+0200
TZOFFSETTO:+0100
TZNAME:CET
DTSTART:19701025T030000
RRULE:FREQ=YEARLY;INTERVAL=1;BYDAY=-1SU;BYMONTH=10
END:STANDARD
END:VTIMEZONE
BEGIN:VEVENT
UID:dbe428e548ca855d83c5dea425f1eff9@gruene-kiel.de
URL;VALUE=URI:https://gruene-kiel.de/termine/ak-umwelt-klimaschutz-und-mo
 bilitaet/
LOCATION:Rathaus, Magistratssaal, Fleethörn 9, Kiel
SUMMARY:AK Umwelt, Klimaschutz und Mobilität
DESCRIPTION;ALTREP="data:text/html,%0A%3Cp%3EErste%20Sitzung%20des%20Arbe
 itskreises%20Umwelt%2C%20Klimaschutz%20und%20Mobilit%C3%A4t%3C%2Fp%3E%0A%
 0A%0A%0A%3Cdiv%20style%3D%22height%3A25px%22%20aria-hidden%3D%22true%22%2
 0class%3D%22wp-block-spacer%22%3E%3C%2Fdiv%3E%0A%0A%0A%0A%3Cp%3ETagesordn
 ungspunkte%3A%20%3C%2Fp%3E%0A%0A%0A%0A%3Cul%20class%3D%22wp-block-list%22
 %3E%0A%3Cli%3EAntrag%20%C3%BCber%20klimaneutrale%20Geb%C3%A4ude%3C%2Fli%3
 E%0A%0A%0A%0A%3Cli%3EArbeitsplanung%20des%20Arbeitskreises%20mit%20Blick%
 20auf%20die%20Kooperationsvereinbarungen%3C%2Fli%3E%0A%0A%0A%0A%3Cli%3EBe
 richt%20vom%20Gespr%C3%A4ch%20mit%20dem%20Klimaschutzmanagement%20zum%20%
 C3%96kostrombezug%20durch%20die%20Landeshauptstadt%20Kiel%3C%2Fli%3E%0A%3
 C%2Ful%3E%0A":Erste Sitzung des Arbeitskreises Umwelt\, Klimaschutz und M
 obilität\n\nTagesordnungspunkte:\n\nAntrag über klimaneutrale Gebäude\
 n\nArbeitsplanung des Arbeitskreises mit Blick auf die Kooperationsverein
 barungen\n\nBericht vom Gespräch mit dem Klimaschutzmanagement zum Ökos
 trombezug durch die Landeshauptstadt Kiel
CLASS:PUBLIC
DTSTART;TZID=Europe/Berlin:20230814T173000
DTEND;TZID=Europe/Berlin:20230814T183000
DTSTAMP:20260426T042616
END:VEVENT
END:VCALENDAR