BEGIN:VCALENDAR
VERSION:2.0
PRODID:gruene-kiel.de
METHOD:PUBLISH
BEGIN:VTIMEZONE
TZID:Europe/Berlin
X-LIC-LOCATION:Europe/Berlin
BEGIN:DAYLIGHT
TZOFFSETFROM:+0100
TZOFFSETTO:+0200
TZNAME:CEST
DTSTART:19700329T020000
RRULE:FREQ=YEARLY;INTERVAL=1;BYDAY=-1SU;BYMONTH=3
END:DAYLIGHT
BEGIN:STANDARD
TZOFFSETFROM:+0200
TZOFFSETTO:+0100
TZNAME:CET
DTSTART:19701025T030000
RRULE:FREQ=YEARLY;INTERVAL=1;BYDAY=-1SU;BYMONTH=10
END:STANDARD
END:VTIMEZONE
BEGIN:VEVENT
UID:4efbfd70dedf1ed88aa7385fd96b4027@gruene-kiel.de
URL;VALUE=URI:https://gruene-kiel.de/termine/arbeitskreis-mobilitaet-4/
LOCATION:Kleingarten, Steenbeker Kamp, Parzelle 66, Kiel
SUMMARY:Arbeitskreis Mobilität
DESCRIPTION;ALTREP="data:text/html,%3Cp%20class%3D%22%22%3EDie%20n%C3%A4c
 hste%20Sitzung%20findet%20am%2017.%20August%20um%2018%3A30%20Uhr%20im%20K
 leingarten%20des%20Kreisverbandes%20%28%3Ca%20href%3D%22https%3A%2F%2Fwww
 .google.com%2Fmaps%2Fplace%2F54%25C2%25B021%2732.2%2522N%2B10%25C2%25B005
 %2759.8%2522E%2F%4054.35895%2C10.0977633%2C17z%2Fdata%3D%213m1%214b1%214m
 5%213m4%211s0x0%3A0x0%218m2%213d54.35895%214d10.099952%3Fhl%3Dde-DE%22%3E
 https%3A%2F%2Fwww.google.com%2Fmaps%2Fplace%2F54%25C2%25B021%2732.2%2522N
 %2B10%25C2%25B005%2759.8%2522E%2F%4054.35895%2C10.0977633%2C17z%2Fdata%3D
 %213m1%214b1%214m5%213m4%211s0x0%3A0x0%218m2%213d54.35895%214d10.099952%3
 Fhl%3Dde-DE%3C%2Fa%3E%29%20statt.%20Bei%20schlechtem%20Wetter%20wird%20di
 e%20Sitzung%20online%20stattfinden%2C%20da%20der%20Vorstand%20aufgrund%20
 der%20erh%C3%B6hten%20Inzidenzwerte%20keine%20Pr%C3%A4senztermine%20in%20
 der%20LGS%20haben%20m%C3%B6chte.%3C%2Fp%3E%0D%0A%3Cp%20class%3D%22%22%3ET
 hemen%20f%C3%BCr%20die%20Sitzung%20sind%3A%3C%2Fp%3E%0D%0A%0D%0A%3Col%20c
 lass%3D%22%22%3E%0D%0A%20%09%3Cli%20class%3D%22%22%3EPark%28ing%29%20Day%
 20am%2017.09.21%3C%2Fli%3E%0D%0A%20%09%3Cli%20class%3D%22%22%3EAntrag%20f
 %C3%BCr%20KMV%20bzgl.%20Kommunikation%20mit%20Eigenbetrieben%20der%20LHK%
 3C%2Fli%3E%0D%0A%20%09%3Cli%20class%3D%22%22%3EKontakt%20mit%20dem%20KV%2
 0Pl%C3%B6n%20bzgl.%20der%20Kostenbeteiligung%20des%20Kreises%20an%20der%2
 0SFK%3C%2Fli%3E%0D%0A%20%09%3Cli%20class%3D%22%22%3ESonstiges%3C%2Fli%3E%
 0D%0A%3C%2Fol%3E":Die nächste Sitzung findet am 17. August um 18:30 Uhr 
 im Kleingarten des Kreisverbandes (https://www.google.com/maps/place/54%C
 2%B021'32.2%22N+10%C2%B005'59.8%22E/@54.35895\,10.0977633\,17z/data=!3m1!
 4b1!4m5!3m4!1s0x0:0x0!8m2!3d54.35895!4d10.099952?hl=de-DE) statt. Bei sch
 lechtem Wetter wird die Sitzung online stattfinden\, da der Vorstand aufg
 rund der erhöhten Inzidenzwerte keine Präsenztermine in der LGS haben m
 öchte.\n\nThemen für die Sitzung sind:\n\n 	Park(ing) Day am 17.09.21\n
 \n 	Antrag für KMV bzgl. Kommunikation mit Eigenbetrieben der LHK\n\n 	K
 ontakt mit dem KV Plön bzgl. der Kostenbeteiligung des Kreises an der SF
 K\n\n 	Sonstiges
CLASS:PUBLIC
DTSTART;TZID=Europe/Berlin:20210817T183000
DTEND;TZID=Europe/Berlin:20210817T193000
DTSTAMP:20260422T101222
END:VEVENT
END:VCALENDAR