BEGIN:VCALENDAR
VERSION:2.0
PRODID:gruene-kiel.de
METHOD:PUBLISH
BEGIN:VTIMEZONE
TZID:Europe/Berlin
X-LIC-LOCATION:Europe/Berlin
BEGIN:DAYLIGHT
TZOFFSETFROM:+0100
TZOFFSETTO:+0200
TZNAME:CEST
DTSTART:19700329T020000
RRULE:FREQ=YEARLY;INTERVAL=1;BYDAY=-1SU;BYMONTH=3
END:DAYLIGHT
BEGIN:STANDARD
TZOFFSETFROM:+0200
TZOFFSETTO:+0100
TZNAME:CET
DTSTART:19701025T030000
RRULE:FREQ=YEARLY;INTERVAL=1;BYDAY=-1SU;BYMONTH=10
END:STANDARD
END:VTIMEZONE
BEGIN:VEVENT
UID:23e5b073369c1a0b915671690b1aedff@gruene-kiel.de
URL;VALUE=URI:https://gruene-kiel.de/termine/stand-auf-dem-csd/
LOCATION:Bootshafen, Kiel
SUMMARY:Stand auf dem CSD
DESCRIPTION;ALTREP="data:text/html,Wir%20sind%20dieses%20Jahr%20gemeinsam
 %20mit%20unserer%20Gr%C3%BCnen%20Jugend%20wieder%20auf%20dem%20CSD%20mit%
 20einem%20Stand%20vertreten.%20Komm%20vorbei%21%0D%0A%0D%0AAus%20dem%20Pr
 ogramm%3A%0D%0A%0D%0A%22Das%20Stra%C3%9Fenfest%20beginnt%20um%2011%3A00%2
 0Uhr.%20Wir%20erwarten%20die%20Ankunft%20der%20Demonstration%20gegen%2013
 %3A30%20Uhr%20am%20Bootshafen.%20Bis%2018%3A00%20Uhr%20haben%20wir%20dann
 %20ein%20abwechslungsreiches%20Programm%20auf%20unserer%20schwimmenden%20
 B%C3%BChne%20und%20von%2018%3A00%20bis%2020%3A00%20Uhr%20legt%20dann%20Pr
 icilla%20ein%20wenig%20Musik%20zur%20Einstimmung%20auf%20unsere%20Abschlu
 ssparty%20in%20der%20Pumpe%20auf.%20Wir%20w%C3%BCrden%20uns%20freuen%2C%2
 0wenn%20du%20unser%20Motto%20%E2%80%9CNur%20gemeinsam%20weiter%E2%80%9D%2
 0in%20kreativer%20Form%20an%20deinem%20Stand%20aufgreifen%20w%C3%BCrdest.
 %22":Wir sind dieses Jahr gemeinsam mit unserer Grünen Jugend wieder auf
  dem CSD mit einem Stand vertreten. Komm vorbei!\n\nAus dem Programm:\n\n
 "Das Straßenfest beginnt um 11:00 Uhr. Wir erwarten die Ankunft der Demo
 nstration gegen 13:30 Uhr am Bootshafen. Bis 18:00 Uhr haben wir dann ein
  abwechslungsreiches Programm auf unserer schwimmenden Bühne und von 18:
 00 bis 20:00 Uhr legt dann Pricilla ein wenig Musik zur Einstimmung auf u
 nsere Abschlussparty in der Pumpe auf. Wir würden uns freuen\, wenn du u
 nser Motto “Nur gemeinsam weiter” in kreativer Form an deinem Stand a
 ufgreifen würdest."
CLASS:PUBLIC
DTSTART;TZID=Europe/Berlin:20220709T110000
DTEND;TZID=Europe/Berlin:20220709T180000
DTSTAMP:20260422T101025
END:VEVENT
END:VCALENDAR