BEGIN:VCALENDAR
VERSION:2.0
PRODID:gruene-kiel.de
METHOD:PUBLISH
BEGIN:VTIMEZONE
TZID:Europe/Berlin
X-LIC-LOCATION:Europe/Berlin
BEGIN:DAYLIGHT
TZOFFSETFROM:+0100
TZOFFSETTO:+0200
TZNAME:CEST
DTSTART:19700329T020000
RRULE:FREQ=YEARLY;INTERVAL=1;BYDAY=-1SU;BYMONTH=3
END:DAYLIGHT
BEGIN:STANDARD
TZOFFSETFROM:+0200
TZOFFSETTO:+0100
TZNAME:CET
DTSTART:19701025T030000
RRULE:FREQ=YEARLY;INTERVAL=1;BYDAY=-1SU;BYMONTH=10
END:STANDARD
END:VTIMEZONE
BEGIN:VEVENT
UID:5d03fa22e413a162804902882d2c7b5e@gruene-kiel.de
URL;VALUE=URI:https://gruene-kiel.de/termine/termin-fuer-die-ob-wahl/
LOCATION:
SUMMARY:Oberbürgermeister*in-Wahl
DESCRIPTION;ALTREP="data:text/html,%0A%3Cp%3EAlle%20Informationen%20zu%20
 unserem%20Kandidaten%20Samet%20Yilmaz%20finden%20Sie%2Ffindest%20Du%20hie
 r%3A%20%3Ca%20href%3D%22https%3A%2F%2Fsamet-yilmaz.de%2F%22%3EDr.%20Samet
 %20Yilmaz%20%E2%80%93%20Oberb%C3%BCrgermeisterkandidat%202025%20in%20Kiel
 %20%7C%20Samet%20Yilmaz%3C%2Fa%3E%3C%2Fp%3E%0A":Alle Informationen zu uns
 erem Kandidaten Samet Yilmaz finden Sie/findest Du hier: Dr. Samet Yilmaz
  – Oberbürgermeisterkandidat 2025 in Kiel | Samet Yilmaz
CLASS:PUBLIC
DTSTART;TZID=Europe/Berlin:20251116T080000
DTEND;TZID=Europe/Berlin:20251116T180000
DTSTAMP:20260422T060032
END:VEVENT
END:VCALENDAR