BEGIN:VCALENDAR
VERSION:2.0
PRODID:-//wp-events-plugin.com//7.2.3.1//EN
TZID:Europe/Berlin
X-WR-TIMEZONE:Europe/Berlin
BEGIN:VEVENT
UID:4@gruene-kiel.de
DTSTART;TZID=Europe/Berlin:20221103T190000
DTEND;TZID=Europe/Berlin:20221103T210000
DTSTAMP:20221102T202707Z
URL:https://gruene-kiel.de/events/gemeinsam-durch-die-krise-mit-rasmus-and
 resen/
SUMMARY:Gemeinsam durch die Krise – mit Rasmus Andresen
DESCRIPTION:Preisexplosion\, Energieknappheit\, drohende Massenarbeitslosig
 keit: Die kommenden Monate werden sehr hart. Deutschland und die gesamte E
 uropäische Union werden extrem herausgefordert. Demagogen wollen uns weis
 machen\, dass es uns besser geht\, wenn wir uns um Europa nicht mehr kümm
 ern und wir alle kürzer treten. Dabei ist Europäische Solidarität der S
 chlüssel\, um aus den Krisen zu kommen. Warum Sozialkürzungen und Druck 
 auf ökonomisch schwächere Staaten der falsche Weg sind\, warum Deutschla
 nd der kranke Patient Europas ist und wie wir mit mehr Solidarität aus de
 r Krise kommen\, möchte der Grüne Europaabgeordnete Rasmus Andresen mit 
 euch diskutieren.
LOCATION:Legienstraße 40\, Legienstr. 40\, Kiel\, 24103\, Deutschland
X-APPLE-STRUCTURED-LOCATION;VALUE=URI;X-ADDRESS=Legienstr. 40\, Kiel\, 2410
 3\, Deutschland;X-APPLE-RADIUS=100;X-TITLE=Legienstraße 40:geo:0,0
END:VEVENT
BEGIN:VEVENT
UID:5@gruene-kiel.de
DTSTART;TZID=Europe/Berlin:20221110T180000
DTEND;TZID=Europe/Berlin:20221110T200000
DTSTAMP:20221102T203529Z
URL:https://gruene-kiel.de/events/frauentreffen-zur-kommunalwahl/
SUMMARY:Frauentreffen zur Kommunalwahl
DESCRIPTION:Am 10.11. um 18 Uhr findet in der Rotunde im Rathaus (2. Oberge
 schoss) unser Frauentreffen zur Kommunalwahl statt. Das ist das richtige T
 reffen für dich\, wenn du Lust hast\, dich in der Kommunalpolitik zu enga
 gieren – sei es im Ortsbeirat\, als bürgerliches Ausschussmitglied oder
  in unserer grünen Ratsfraktion. Wir zeigen dir deine Möglichkeiten\, er
 fahrene Kommunalpolitiker*innen berichten dir von ihrer Arbeit und du kann
 st all deine Fragen stellen.
LOCATION:Rotunde im Rathaus\, Fleethörn 9\, Kiel\, 24103\, Deutschland
X-APPLE-STRUCTURED-LOCATION;VALUE=URI;X-ADDRESS=Fleethörn 9\, Kiel\, 24103
 \, Deutschland;X-APPLE-RADIUS=100;X-TITLE=Rotunde im Rathaus:geo:0,0
END:VEVENT
BEGIN:VTIMEZONE
TZID:Europe/Berlin
X-LIC-LOCATION:Europe/Berlin
BEGIN:STANDARD
DTSTART:20221030T020000
TZOFFSETFROM:+0200
TZOFFSETTO:+0100
TZNAME:CET
END:STANDARD
END:VTIMEZONE
END:VCALENDAR